BEGIN:VCALENDAR
VERSION:2.0
PRODID:-//IV Conferência de Recursos Humanos - ECPv6.15.11//NONSGML v1.0//EN
CALSCALE:GREGORIAN
METHOD:PUBLISH
X-WR-CALNAME:IV Conferência de Recursos Humanos
X-ORIGINAL-URL:https://conferenciarh.airv.pt
X-WR-CALDESC:Eventos para IV Conferência de Recursos Humanos
REFRESH-INTERVAL;VALUE=DURATION:PT1H
X-Robots-Tag:noindex
X-PUBLISHED-TTL:PT1H
BEGIN:VTIMEZONE
TZID:UTC
BEGIN:STANDARD
TZOFFSETFROM:+0000
TZOFFSETTO:+0000
TZNAME:UTC
DTSTART:20240101T000000
END:STANDARD
END:VTIMEZONE
BEGIN:VEVENT
DTSTART;VALUE=DATE:20251121
DTEND;VALUE=DATE:20251122
DTSTAMP:20260422T145244
CREATED:20170721T053407Z
LAST-MODIFIED:20250904T135659Z
UID:937-1763683200-1763769599@conferenciarh.airv.pt
SUMMARY:IV Conferência de Recursos Humanos da Região Centro
DESCRIPTION:A AIRV – Associação Empresarial da Região de Viseu irá promover no próximo dia 21 de novembro\, a IV CONFERÊNCIA DE RECURSOS HUMANOS DA REGIÃO CENTRO\, dando continuidade às edições anteriores\, realizadas em 2019\, 2021 e 2023\, e que poderá recordar aqui. \nAs Conferências de Recursos Humanos da Região Centro\, têm como missão\,  fomentar e promover uma comunidade inovadora e colaborativa\, que conecte diferentes atores do cenário nas relações do trabalho\, com o objetivo de difundir as melhores práticas em gestão de recursos humanos \nSão vários os objetivos da conferência: \n\nRefletir e debater sobre as tendências de gestão de recursos humanos\, no atual contexto das organizações;\nPerspectivar o futuro da gestão de pessoas;\nDivulgar as melhores práticas de RH\, nas empresas da região;\nPromover networking empresarial na região centro e interligar os profissionais de RH;\nConhecer pessoas\, soluções e organizações.
URL:https://conferenciarh.airv.pt/event/iii-conferencia-de-recursos-humanos-da-regiao-centro/
LOCATION:AIRV\, Edificio Expobeiras Parque Industrial de Coimbrões\, Viseu\, \, 3500-618\, Portugal
CATEGORIES:Conferência
END:VEVENT
END:VCALENDAR